BEGIN:VCALENDAR
VERSION:2.0
PRODID:-//Pease Golf - ECPv6.15.20//NONSGML v1.0//EN
CALSCALE:GREGORIAN
METHOD:PUBLISH
X-WR-CALNAME:Pease Golf
X-ORIGINAL-URL:https://www.peasegolf.com
X-WR-CALDESC:Events for Pease Golf
REFRESH-INTERVAL;VALUE=DURATION:PT1H
X-Robots-Tag:noindex
X-PUBLISHED-TTL:PT1H
BEGIN:VTIMEZONE
TZID:UTC
BEGIN:STANDARD
TZOFFSETFROM:+0000
TZOFFSETTO:+0000
TZNAME:UTC
DTSTART:20240101T000000
END:STANDARD
END:VTIMEZONE
BEGIN:VTIMEZONE
TZID:America/Halifax
BEGIN:DAYLIGHT
TZOFFSETFROM:-0400
TZOFFSETTO:-0300
TZNAME:ADT
DTSTART:20240310T060000
END:DAYLIGHT
BEGIN:STANDARD
TZOFFSETFROM:-0300
TZOFFSETTO:-0400
TZNAME:AST
DTSTART:20241103T050000
END:STANDARD
BEGIN:DAYLIGHT
TZOFFSETFROM:-0400
TZOFFSETTO:-0300
TZNAME:ADT
DTSTART:20250309T060000
END:DAYLIGHT
BEGIN:STANDARD
TZOFFSETFROM:-0300
TZOFFSETTO:-0400
TZNAME:AST
DTSTART:20251102T050000
END:STANDARD
BEGIN:DAYLIGHT
TZOFFSETFROM:-0400
TZOFFSETTO:-0300
TZNAME:ADT
DTSTART:20260308T060000
END:DAYLIGHT
BEGIN:STANDARD
TZOFFSETFROM:-0300
TZOFFSETTO:-0400
TZNAME:AST
DTSTART:20261101T050000
END:STANDARD
END:VTIMEZONE
BEGIN:VEVENT
DTSTART;VALUE=DATE:20250904
DTEND;VALUE=DATE:20250908
DTSTAMP:20260422T164036
CREATED:20250110T173846Z
LAST-MODIFIED:20250110T173846Z
UID:5015-1756944000-1757289599@www.peasegolf.com
SUMMARY:Portsmouth International Airport Pease Airshow
DESCRIPTION:The Portsmouth international Airport at Pease will be hosting an Air Show showcasing the Blue Angels.  Due to meeting requirements for the Air Show acts the Blue Course will be closed all four days\, and tee times on the 18 hole course will be limited.  the course will not be taking any advanced reservation due to the limited tee times that will be available.  Tee times can be booked 10 days in advance online\, or 7 days in advance by phone at 603-433-1331.
URL:https://www.peasegolf.com/event/portsmouth-international-airport-pease-airshow/
END:VEVENT
BEGIN:VEVENT
DTSTART;VALUE=DATE:20250910
DTEND;VALUE=DATE:20250911
DTSTAMP:20260422T164036
CREATED:20160603T160222Z
LAST-MODIFIED:20250813T155802Z
UID:1994-1757462400-1757548799@www.peasegolf.com
SUMMARY:Walk 18 Holes for $27
DESCRIPTION:Play 18 Holes walking for only $27 one day of every month.  Play 9 holes walking for $22\, or play 9 holes riding on our Blue Course for $27.  Tee times can be made up to 7 days in advance by calling the Golf Shop at 603-433-1331\, or visit www.peasegolf.com to book online up to 10 days in advance.
URL:https://www.peasegolf.com/event/play-18-holes-for-27/
END:VEVENT
BEGIN:VEVENT
DTSTART;TZID=America/Halifax:20250911T080000
DTEND;TZID=America/Halifax:20250911T170000
DTSTAMP:20260422T164036
CREATED:20240306T171056Z
LAST-MODIFIED:20250109T205420Z
UID:4577-1757577600-1757610000@www.peasegolf.com
SUMMARY:PNSY League Windup Rain Date
DESCRIPTION:PNSY League will be playing the Front Nine with times starting at 3:00 p.m.\, and the Blue Course with a 3:30 p.m. shotgun satrt.
URL:https://www.peasegolf.com/event/pnsy-league-windup-rain-date/
CATEGORIES:Leagues
END:VEVENT
BEGIN:VEVENT
DTSTART;TZID=America/Halifax:20250915T090000
DTEND;TZID=America/Halifax:20250915T160000
DTSTAMP:20260422T164036
CREATED:20240306T172738Z
LAST-MODIFIED:20250110T174711Z
UID:4580-1757926800-1757952000@www.peasegolf.com
SUMMARY:NH DOT Golf Outing
DESCRIPTION:Pease is hosting the Annual DOT Golf Outing on Monday\, September 15 playing the 18 hole course 9:00 a.m. shotgun start.
URL:https://www.peasegolf.com/event/nh-dot-golf-outing/
END:VEVENT
BEGIN:VEVENT
DTSTART;TZID=America/Halifax:20250919T160000
DTEND;TZID=America/Halifax:20250919T170000
DTSTAMP:20260422T164036
CREATED:20230224T184543Z
LAST-MODIFIED:20250109T200131Z
UID:4125-1758297600-1758301200@www.peasegolf.com
SUMMARY:9 Hole Scotchie Back Nine
DESCRIPTION:The 9 Hole Scotchie is a Two-Player Team\, one male & one female\, with tee times starting at 4:00 p.m.  Players have the option to pick their own partner\, or they can sign up in the Golf Shop on their own and staff will do their best to find you a partner.  What is a Scotchie? Good question.  Format goes like this;. Both players tee off\, men from the white tees women from the green\, the team then selects one of those two shots and alternates hitting the one ball until a single ball is holed out for one team score.  That process is followed on every hole\, with no required amount of tee shots per player.  The event is a net tournament\, with tee team handicaps being the two individual 9 hole handicaps of the players combined and divided by two.  So\, if there is a 10 handicap player and a 8 handicap player that would be 10 + 8 = 18 18/2 = 9.  That would be that team’s handicap.  Players will post their 18 hole score and the team handicap is subtracted.  It is much less complicated then it sounds.  Players must be 19 years of age by January 1\, 2024.
URL:https://www.peasegolf.com/event/9-hole-scotchie-3/
CATEGORIES:Golf Outings
END:VEVENT
END:VCALENDAR