BEGIN:VCALENDAR
VERSION:2.0
PRODID:-//Pease Golf - ECPv6.15.20//NONSGML v1.0//EN
CALSCALE:GREGORIAN
METHOD:PUBLISH
X-WR-CALNAME:Pease Golf
X-ORIGINAL-URL:https://www.peasegolf.com
X-WR-CALDESC:Events for Pease Golf
REFRESH-INTERVAL;VALUE=DURATION:PT1H
X-Robots-Tag:noindex
X-PUBLISHED-TTL:PT1H
BEGIN:VTIMEZONE
TZID:Asia/Dubai
BEGIN:STANDARD
TZOFFSETFROM:+0400
TZOFFSETTO:+0400
TZNAME:+04
DTSTART:20240101T000000
END:STANDARD
END:VTIMEZONE
BEGIN:VEVENT
DTSTART;VALUE=DATE:20250201
DTEND;VALUE=DATE:20250202
DTSTAMP:20260419T204203
CREATED:20241004T144957Z
LAST-MODIFIED:20241004T144957Z
UID:4853-1738368000-1738454399@www.peasegolf.com
SUMMARY:PGA Tour Simulator Four Player Best Ball Sheshan International
DESCRIPTION:Simulator Winter Series Tournament Schedule \nFebruary Winter Tournament Best Ball Sheshan Application
URL:https://www.peasegolf.com/event/pga-tour-simulator-four-player-best-ball-sheshan-international/
CATEGORIES:Golf Outings
END:VEVENT
BEGIN:VEVENT
DTSTART;VALUE=DATE:20250101
DTEND;VALUE=DATE:20250102
DTSTAMP:20260419T204203
CREATED:20241004T144852Z
LAST-MODIFIED:20241004T144852Z
UID:4852-1735689600-1735775999@www.peasegolf.com
SUMMARY:PGA Tour Simulator Four Player Scramble Harbor Town Golf Links
DESCRIPTION:Simulator Winter Series Tournament Schedule \nJanuary Winter Tournament Scramble Harbor Town Application
URL:https://www.peasegolf.com/event/pga-tour-simulator-four-player-scramble-harbor-town-golf-links/
END:VEVENT
END:VCALENDAR