BEGIN:VCALENDAR
VERSION:2.0
PRODID:-//Pease Golf - ECPv6.15.20//NONSGML v1.0//EN
CALSCALE:GREGORIAN
METHOD:PUBLISH
X-ORIGINAL-URL:https://www.peasegolf.com
X-WR-CALDESC:Events for Pease Golf
REFRESH-INTERVAL;VALUE=DURATION:PT1H
X-Robots-Tag:noindex
X-PUBLISHED-TTL:PT1H
BEGIN:VTIMEZONE
TZID:Asia/Dubai
BEGIN:STANDARD
TZOFFSETFROM:+0400
TZOFFSETTO:+0400
TZNAME:+04
DTSTART:20240101T000000
END:STANDARD
END:VTIMEZONE
BEGIN:VEVENT
DTSTART;TZID=Asia/Dubai:20250715T130000
DTEND;TZID=Asia/Dubai:20250715T210000
DTSTAMP:20260419T163811
CREATED:20250711T131324Z
LAST-MODIFIED:20250711T131324Z
UID:5312-1752584400-1752613200@www.peasegolf.com
SUMMARY:Driving Range Closing at 1:00 PM.
DESCRIPTION:The Pease driving range will be closing at 1:00 p.m. today.  Will reopen normal business hours Wednesday\, July 16.
URL:https://www.peasegolf.com/event/driving-range-closing-at-100-pm/
END:VEVENT
END:VCALENDAR